BEGIN:VCALENDAR
VERSION:2.0
PRODID:-//STXsoccer - ECPv6.15.17.1//NONSGML v1.0//EN
CALSCALE:GREGORIAN
METHOD:PUBLISH
X-WR-CALNAME:STXsoccer
X-ORIGINAL-URL:https://www.stxsoccer.org
X-WR-CALDESC:Events for STXsoccer
REFRESH-INTERVAL;VALUE=DURATION:PT1H
X-Robots-Tag:noindex
X-PUBLISHED-TTL:PT1H
BEGIN:VTIMEZONE
TZID:UTC
BEGIN:STANDARD
TZOFFSETFROM:+0000
TZOFFSETTO:+0000
TZNAME:UTC
DTSTART:20240101T000000
END:STANDARD
END:VTIMEZONE
BEGIN:VEVENT
DTSTART;VALUE=DATE:20250627
DTEND;VALUE=DATE:20250703
DTSTAMP:20260423T112604
CREATED:20250218T041420Z
LAST-MODIFIED:20250218T041536Z
UID:10000145-1750982400-1751500799@www.stxsoccer.org
SUMMARY:US Youth Soccer Southern Regional Championships (13U-18/19U Only) Dallas\, TX
DESCRIPTION:US Youth Soccer Southern Regional Championships (13U-18/19U Only) Dallas\, TX \nFollow all the action from the Southern Regional Championships\, presented by New York Life\, by following us on social media! Facebook | Twitter | Instagram | YouTube \nInteract with USYS on social media by using the following hashtags >> #FORitALL #ROADtoFL #USYS #WeAreYouthSoccer
URL:https://www.stxsoccer.org/event/us-youth-soccer-southern-regional-championships-13u-18-19u-only-dallas-tx/
CATEGORIES:Competitions
ATTACH;FMTTYPE=image/png:https://www.stxsoccer.org/wp-content/uploads/sites/233/2025/02/2025_SRCxNYL_Vertical_RGB_WBG-1.png
END:VEVENT
BEGIN:VEVENT
DTSTART;VALUE=DATE:20250711
DTEND;VALUE=DATE:20250716
DTSTAMP:20260423T112604
CREATED:20250218T040910Z
LAST-MODIFIED:20250218T040910Z
UID:10000143-1752192000-1752623999@www.stxsoccer.org
SUMMARY:US Youth Soccer National Presidents Cup (13U-19U Only) Tampa\, FL
DESCRIPTION:US Youth Soccer National Presidents Cup (13U-19U Only) Tampa\, FL \nFollow all the action from the National Presidents Cup by following us on social media! Facebook | Twitter | Instagram | YouTube \nInteract with US Youth Soccer on social media by using the following hashtags >> #ClaimTheCup #USYS #WeAreYouthSoccer
URL:https://www.stxsoccer.org/event/us-youth-soccer-national-presidents-cup-13u-19u-only-tampa-fl/
CATEGORIES:Competitions
ATTACH;FMTTYPE=image/png:https://www.stxsoccer.org/wp-content/uploads/sites/233/2025/02/USYS_PresCup_National_TM_2025_4C_DBG.png
END:VEVENT
BEGIN:VEVENT
DTSTART;VALUE=DATE:20250722
DTEND;VALUE=DATE:20250728
DTSTAMP:20260423T112604
CREATED:20250218T041222Z
LAST-MODIFIED:20250218T041239Z
UID:10000144-1753142400-1753660799@www.stxsoccer.org
SUMMARY:US Youth Soccer National Championships (13U-18/19U Only) Orlando\, FL
DESCRIPTION:US Youth Soccer National Championships (13U-18/19U Only) Orlando\, FL \nFollow all the action from the National Championships\, presented by New York Life\, by following us on social media!  Facebook | Twitter | Instagram | YouTube | TikTok \nInteract with USYS on social media by using the following hashtags >> #FORitALL #ROADtoFL #USYS #WeAreYouthSoccer
URL:https://www.stxsoccer.org/event/us-youth-soccer-national-championships-13u-18-19u-only-orlando-fl/
CATEGORIES:Competitions
ATTACH;FMTTYPE=image/png:https://www.stxsoccer.org/wp-content/uploads/sites/233/2025/02/2025_NCxNYL_Vertical_RGB_WBG-1.png
END:VEVENT
END:VCALENDAR