BEGIN:VCALENDAR
VERSION:2.0
PRODID:-//STXsoccer - ECPv6.15.17.1//NONSGML v1.0//EN
CALSCALE:GREGORIAN
METHOD:PUBLISH
X-ORIGINAL-URL:https://www.stxsoccer.org
X-WR-CALDESC:Events for STXsoccer
REFRESH-INTERVAL;VALUE=DURATION:PT1H
X-Robots-Tag:noindex
X-PUBLISHED-TTL:PT1H
BEGIN:VTIMEZONE
TZID:UTC
BEGIN:STANDARD
TZOFFSETFROM:+0000
TZOFFSETTO:+0000
TZNAME:UTC
DTSTART:20240101T000000
END:STANDARD
END:VTIMEZONE
BEGIN:VEVENT
DTSTART;VALUE=DATE:20250402
DTEND;VALUE=DATE:20250403
DTSTAMP:20260423T180549
CREATED:20250219T021602Z
LAST-MODIFIED:20250219T021602Z
UID:10000148-1743552000-1743638399@www.stxsoccer.org
SUMMARY:State Cup: Roster Freeze Date
DESCRIPTION:
URL:https://www.stxsoccer.org/event/state-cup-roster-freeze-date/
CATEGORIES:Competitions
END:VEVENT
END:VCALENDAR