BEGIN:VCALENDAR
VERSION:2.0
PRODID:-//STXsoccer - ECPv6.15.17.1//NONSGML v1.0//EN
CALSCALE:GREGORIAN
METHOD:PUBLISH
X-WR-CALNAME:STXsoccer
X-ORIGINAL-URL:https://www.stxsoccer.org
X-WR-CALDESC:Events for STXsoccer
REFRESH-INTERVAL;VALUE=DURATION:PT1H
X-Robots-Tag:noindex
X-PUBLISHED-TTL:PT1H
BEGIN:VTIMEZONE
TZID:UTC
BEGIN:STANDARD
TZOFFSETFROM:+0000
TZOFFSETTO:+0000
TZNAME:UTC
DTSTART:20240101T000000
END:STANDARD
END:VTIMEZONE
BEGIN:VEVENT
DTSTART;VALUE=DATE:20250426
DTEND;VALUE=DATE:20250428
DTSTAMP:20260423T161710
CREATED:20250218T034237Z
LAST-MODIFIED:20250219T033129Z
UID:10000125-1745625600-1745798399@www.stxsoccer.org
SUMMARY:South Texas Cup: State Finals
DESCRIPTION:South Texas Cup State Finals: Corpus Christi Sports Complex (Corpus Christi)
URL:https://www.stxsoccer.org/event/south-texas-cup-state-finals/
LOCATION:Corpus Christi Sports Complex\, 5102 Old Brownsville Rd.\, Corpus Christi\, TX\, 78405\, United States
CATEGORIES:Competitions
ATTACH;FMTTYPE=image/png:https://www.stxsoccer.org/wp-content/uploads/sites/233/2025/01/STX_South_Texas_Cup_2025.png
END:VEVENT
BEGIN:VEVENT
DTSTART;VALUE=DATE:20250426
DTEND;VALUE=DATE:20250428
DTSTAMP:20260423T161710
CREATED:20250218T035415Z
LAST-MODIFIED:20250218T223308Z
UID:10000132-1745625600-1745798399@www.stxsoccer.org
SUMMARY:Directors Cup: District Group Play / Playoffs
DESCRIPTION:DISTRICT PLAY LOCATIONS\nGames will take place at multiple locations throughout each district. Play sites that will be used in each district are listed below and subject to availability. Additional play locations may be added pending final game counts/site availability. \nEASTERN DISTRICT:\nBear Creek Park\nBaytown Soccer Complex\nCamp Sienna\nCullen Park\nDave Finkel Fields\nEl Franco Lee Park\nGosling Sports Fields\nMemorial Park\nMeyer Park\nShadow Creek Sports Complex\nStampede Sportsplex \nWESTERN DISTRICT:\nTo Be Announced (TBA)
URL:https://www.stxsoccer.org/event/directors-cup-district-group-play-playoffs/
CATEGORIES:Competitions
ATTACH;FMTTYPE=image/png:https://www.stxsoccer.org/wp-content/uploads/sites/233/2025/01/STX_Directors_Cup_2025.png
END:VEVENT
BEGIN:VEVENT
DTSTART;VALUE=DATE:20250426
DTEND;VALUE=DATE:20250428
DTSTAMP:20260423T161710
CREATED:20250219T021808Z
LAST-MODIFIED:20250219T023311Z
UID:10000151-1745625600-1745798399@www.stxsoccer.org
SUMMARY:State Cup: District Group Play
DESCRIPTION:DISTRICT PLAY LOCATIONS\nGames will take place at multiple locations throughout each district. Play sites that will be used in each district are listed below and subject to availability. Additional play locations may be added pending final game counts/site availability. \nEASTERN DISTRICT:\nBear Creek Park\nBaytown Soccer Complex\nCamp Sienna\nCullen Park\nDave Finkel Fields\nEl Franco Lee Park\nGosling Sports Fields\nMemorial Park\nMeyer Park\nShadow Creek Sports Complex\nStampede Sportsplex \nWESTERN DISTRICT:\nTo Be Announced (TBA)
URL:https://www.stxsoccer.org/event/state-cup-district-group-play-2/
CATEGORIES:Competitions
END:VEVENT
END:VCALENDAR