BEGIN:VCALENDAR
VERSION:2.0
PRODID:-//STXsoccer - ECPv6.15.17.1//NONSGML v1.0//EN
CALSCALE:GREGORIAN
METHOD:PUBLISH
X-ORIGINAL-URL:https://www.stxsoccer.org
X-WR-CALDESC:Events for STXsoccer
REFRESH-INTERVAL;VALUE=DURATION:PT1H
X-Robots-Tag:noindex
X-PUBLISHED-TTL:PT1H
BEGIN:VTIMEZONE
TZID:UTC
BEGIN:STANDARD
TZOFFSETFROM:+0000
TZOFFSETTO:+0000
TZNAME:UTC
DTSTART:20240101T000000
END:STANDARD
END:VTIMEZONE
BEGIN:VEVENT
DTSTART;VALUE=DATE:20250510
DTEND;VALUE=DATE:20250512
DTSTAMP:20260423T143539
CREATED:20250218T035544Z
LAST-MODIFIED:20250219T030408Z
UID:10000134-1746835200-1747007999@www.stxsoccer.org
SUMMARY:Directors Cup: State Finals
DESCRIPTION:Directors Cup State Finals – Round Rock Multipurpose Complex
URL:https://www.stxsoccer.org/event/directors-cup-state-finals/
LOCATION:Round Rock Multipurpose Complex\, 2001 North Kenney Fort Blvd.\, Round Rock\, TX\, 78665\, United States
CATEGORIES:Competitions
ATTACH;FMTTYPE=image/png:https://www.stxsoccer.org/wp-content/uploads/sites/233/2025/01/STX_Directors_Cup_2025.png
END:VEVENT
BEGIN:VEVENT
DTSTART;VALUE=DATE:20250510
DTEND;VALUE=DATE:20250512
DTSTAMP:20260423T143539
CREATED:20250219T021917Z
LAST-MODIFIED:20250219T023856Z
UID:10000153-1746835200-1747007999@www.stxsoccer.org
SUMMARY:State Cup: District Group Play / Playoffs
DESCRIPTION:DISTRICT PLAY LOCATIONS\nGames will take place at multiple locations throughout each district. Play sites that will be used in each district are listed below and subject to availability. Additional play locations may be added pending final game counts/site availability. \nEASTERN DISTRICT:\nBear Creek Park\nBaytown Soccer Complex\nCamp Sienna\nCullen Park\nDave Finkel Fields\nEl Franco Lee Park\nGosling Sports Fields\nMemorial Park\nMeyer Park\nShadow Creek Sports Complex\nStampede Sportsplex \nWESTERN DISTRICT:\nTo Be Announced (TBA)
URL:https://www.stxsoccer.org/event/state-cup-district-group-play-playoffs-2/
CATEGORIES:Competitions
END:VEVENT
END:VCALENDAR