BEGIN:VCALENDAR
VERSION:2.0
PRODID:-//STXsoccer - ECPv6.15.17.1//NONSGML v1.0//EN
CALSCALE:GREGORIAN
METHOD:PUBLISH
X-ORIGINAL-URL:https://www.stxsoccer.org
X-WR-CALDESC:Events for STXsoccer
REFRESH-INTERVAL;VALUE=DURATION:PT1H
X-Robots-Tag:noindex
X-PUBLISHED-TTL:PT1H
BEGIN:VTIMEZONE
TZID:UTC
BEGIN:STANDARD
TZOFFSETFROM:+0000
TZOFFSETTO:+0000
TZNAME:UTC
DTSTART:20240101T000000
END:STANDARD
END:VTIMEZONE
BEGIN:VEVENT
DTSTART;VALUE=DATE:20250524
DTEND;VALUE=DATE:20250527
DTSTAMP:20260423T130042
CREATED:20250219T022109Z
LAST-MODIFIED:20250219T030836Z
UID:10000155-1748044800-1748303999@www.stxsoccer.org
SUMMARY:State Cup: State Finals
DESCRIPTION:State Cup Finals – Veterans Park & Athletic Complex (College Station)
URL:https://www.stxsoccer.org/event/state-cup-state-finals/
LOCATION:Veterans Park and Athletic Complex\, 3101 Harvey Rd\, College Station\, TX\, 77845\, United States
CATEGORIES:Competitions
END:VEVENT
END:VCALENDAR