BEGIN:VCALENDAR
VERSION:2.0
PRODID:-//STXsoccer - ECPv6.15.17.1//NONSGML v1.0//EN
CALSCALE:GREGORIAN
METHOD:PUBLISH
X-ORIGINAL-URL:https://www.stxsoccer.org
X-WR-CALDESC:Events for STXsoccer
REFRESH-INTERVAL;VALUE=DURATION:PT1H
X-Robots-Tag:noindex
X-PUBLISHED-TTL:PT1H
BEGIN:VTIMEZONE
TZID:UTC
BEGIN:STANDARD
TZOFFSETFROM:+0000
TZOFFSETTO:+0000
TZNAME:UTC
DTSTART:20240101T000000
END:STANDARD
END:VTIMEZONE
BEGIN:VEVENT
DTSTART;VALUE=DATE:20250627
DTEND;VALUE=DATE:20250703
DTSTAMP:20260423T162025
CREATED:20250218T041420Z
LAST-MODIFIED:20250218T041536Z
UID:10000145-1750982400-1751500799@www.stxsoccer.org
SUMMARY:US Youth Soccer Southern Regional Championships (13U-18/19U Only) Dallas\, TX
DESCRIPTION:US Youth Soccer Southern Regional Championships (13U-18/19U Only) Dallas\, TX \nFollow all the action from the Southern Regional Championships\, presented by New York Life\, by following us on social media! Facebook | Twitter | Instagram | YouTube \nInteract with USYS on social media by using the following hashtags >> #FORitALL #ROADtoFL #USYS #WeAreYouthSoccer
URL:https://www.stxsoccer.org/event/us-youth-soccer-southern-regional-championships-13u-18-19u-only-dallas-tx/
CATEGORIES:Competitions
ATTACH;FMTTYPE=image/png:https://www.stxsoccer.org/wp-content/uploads/sites/233/2025/02/2025_SRCxNYL_Vertical_RGB_WBG-1.png
END:VEVENT
END:VCALENDAR