BEGIN:VCALENDAR
VERSION:2.0
PRODID:-//STXsoccer - ECPv6.15.17.1//NONSGML v1.0//EN
CALSCALE:GREGORIAN
METHOD:PUBLISH
X-ORIGINAL-URL:https://www.stxsoccer.org
X-WR-CALDESC:Events for STXsoccer
REFRESH-INTERVAL;VALUE=DURATION:PT1H
X-Robots-Tag:noindex
X-PUBLISHED-TTL:PT1H
BEGIN:VTIMEZONE
TZID:UTC
BEGIN:STANDARD
TZOFFSETFROM:+0000
TZOFFSETTO:+0000
TZNAME:UTC
DTSTART:20240101T000000
END:STANDARD
END:VTIMEZONE
BEGIN:VEVENT
DTSTART;VALUE=DATE:20250917
DTEND;VALUE=DATE:20250918
DTSTAMP:20260419T235310
CREATED:20250818T180300Z
LAST-MODIFIED:20251015T194416Z
UID:10000185-1758067200-1758153599@www.stxsoccer.org
SUMMARY:Fall Championships: Team Count Survey Sent to Member Associations
DESCRIPTION:To provide the number of eligible teams in each age group and competition level.
URL:https://www.stxsoccer.org/event/fall-championships-team-count-survey-sent-to-member-associations/
CATEGORIES:Competitions,Fall Championships
END:VEVENT
END:VCALENDAR