BEGIN:VCALENDAR
VERSION:2.0
PRODID:-//STXsoccer - ECPv6.15.17.1//NONSGML v1.0//EN
CALSCALE:GREGORIAN
METHOD:PUBLISH
X-ORIGINAL-URL:https://www.stxsoccer.org
X-WR-CALDESC:Events for STXsoccer
REFRESH-INTERVAL;VALUE=DURATION:PT1H
X-Robots-Tag:noindex
X-PUBLISHED-TTL:PT1H
BEGIN:VTIMEZONE
TZID:UTC
BEGIN:STANDARD
TZOFFSETFROM:+0000
TZOFFSETTO:+0000
TZNAME:UTC
DTSTART:20240101T000000
END:STANDARD
END:VTIMEZONE
BEGIN:VEVENT
DTSTART;VALUE=DATE:20251206
DTEND;VALUE=DATE:20251208
DTSTAMP:20260419T184359
CREATED:20250818T175158Z
LAST-MODIFIED:20251210T220454Z
UID:10000176-1764979200-1765151999@www.stxsoccer.org
SUMMARY:Fall Championships: Division II & III District Playoffs
DESCRIPTION:EASTERN DISTRICT\n\nDIII Boys & Girls – B.G. Peck Soccer Complex\n\nWESTERN DISTRICT\n\nDII & DIII Boys & Girls – Schertz Soccer Complex
URL:https://www.stxsoccer.org/event/fall-championships-division-ii-iii-district-playoffs/
LOCATION:B.G. Peck Soccer Complex\, 709 Kelly Blvd.\, Angleton\, TX\, 77515\, United States
CATEGORIES:Competitions,Fall Championships
ATTACH;FMTTYPE=image/png:https://www.stxsoccer.org/wp-content/uploads/sites/233/2025/08/STX_Fall_Championships_2025-Graphic.png
END:VEVENT
END:VCALENDAR