BEGIN:VCALENDAR
VERSION:2.0
PRODID:-//STXsoccer - ECPv6.15.17.1//NONSGML v1.0//EN
CALSCALE:GREGORIAN
METHOD:PUBLISH
X-ORIGINAL-URL:https://www.stxsoccer.org
X-WR-CALDESC:Events for STXsoccer
REFRESH-INTERVAL;VALUE=DURATION:PT1H
X-Robots-Tag:noindex
X-PUBLISHED-TTL:PT1H
BEGIN:VTIMEZONE
TZID:UTC
BEGIN:STANDARD
TZOFFSETFROM:+0000
TZOFFSETTO:+0000
TZNAME:UTC
DTSTART:20230101T000000
END:STANDARD
END:VTIMEZONE
BEGIN:VEVENT
DTSTART;VALUE=DATE:20250223
DTEND;VALUE=DATE:20250224
DTSTAMP:20260421T140442
CREATED:20250218T034407Z
LAST-MODIFIED:20250218T223427Z
UID:10000126-1740268800-1740355199@www.stxsoccer.org
SUMMARY:Directors Cup: Registration Deadline
DESCRIPTION:
URL:https://www.stxsoccer.org/event/directors-cup-registration-deadline/
CATEGORIES:Competitions
ATTACH;FMTTYPE=image/png:https://www.stxsoccer.org/wp-content/uploads/sites/233/2025/01/STX_Directors_Cup_2025.png
END:VEVENT
BEGIN:VEVENT
DTSTART;VALUE=DATE:20250223
DTEND;VALUE=DATE:20250224
DTSTAMP:20260421T140442
CREATED:20250218T033648Z
LAST-MODIFIED:20250219T031932Z
UID:10000120-1740268800-1740355199@www.stxsoccer.org
SUMMARY:South Texas Cup: Registration Deadline
DESCRIPTION:
URL:https://www.stxsoccer.org/event/south-texas-cup-registration-deadline/
CATEGORIES:Competitions
ATTACH;FMTTYPE=image/png:https://www.stxsoccer.org/wp-content/uploads/sites/233/2025/01/STX_South_Texas_Cup_2025.png
END:VEVENT
BEGIN:VEVENT
DTSTART;VALUE=DATE:20250120
DTEND;VALUE=DATE:20250121
DTSTAMP:20260421T140442
CREATED:20250212T225303Z
LAST-MODIFIED:20250219T024903Z
UID:10000113-1737331200-1737417599@www.stxsoccer.org
SUMMARY:Spring Cups: Registration Opens for All Cups
DESCRIPTION:
URL:https://www.stxsoccer.org/event/spring-cups-registration-opens-for-all-cups/
CATEGORIES:Competitions
ATTACH;FMTTYPE=image/png:https://www.stxsoccer.org/wp-content/uploads/sites/233/2024/04/cropped-STX_Soccer_Filled_Crest-White-1-e1718391964140.png
END:VEVENT
BEGIN:VEVENT
DTSTART;VALUE=DATE:20241221
DTEND;VALUE=DATE:20241223
DTSTAMP:20260421T140442
CREATED:20240912T023737Z
LAST-MODIFIED:20240912T023737Z
UID:10000105-1734739200-1734911999@www.stxsoccer.org
SUMMARY:Fall Championships: Event Rainout/Make-Up Dates
DESCRIPTION:
URL:https://www.stxsoccer.org/event/fall-championships-event-rainout-make-up-dates/
CATEGORIES:Competitions
END:VEVENT
BEGIN:VEVENT
DTSTART;VALUE=DATE:20241214
DTEND;VALUE=DATE:20241216
DTSTAMP:20260421T140442
CREATED:20240912T023227Z
LAST-MODIFIED:20240912T023227Z
UID:10000101-1734134400-1734307199@www.stxsoccer.org
SUMMARY:Fall Championships: Division II State Finals
DESCRIPTION:DIVISION II GIRLS\n\nVeterans Park & Athletic Complex (College Station\, TX)\n\nDIVISION II BOYS\n\nRound Rock Multipurpose Complex (Round Rock\, TX)
URL:https://www.stxsoccer.org/event/fall-championships-division-ii-state-finals/
CATEGORIES:Competitions
END:VEVENT
BEGIN:VEVENT
DTSTART;VALUE=DATE:20241214
DTEND;VALUE=DATE:20241216
DTSTAMP:20260421T140442
CREATED:20240509T041922Z
LAST-MODIFIED:20240615T005026Z
UID:10000021-1734134400-1734307199@www.stxsoccer.org
SUMMARY:Frontier Conference Qualifier Event
DESCRIPTION:Girls & Boys 13U Teams \nLocation: Round Rock\, TX
URL:https://www.stxsoccer.org/event/frontier-conference-13u-qualifier-event/
CATEGORIES:Competitions
ATTACH;FMTTYPE=image/png:https://www.stxsoccer.org/wp-content/uploads/sites/233/2023/10/5eed4205113da23230667344_logo-frontier1-e1718392065427.png
END:VEVENT
BEGIN:VEVENT
DTSTART;VALUE=DATE:20241207
DTEND;VALUE=DATE:20241209
DTSTAMP:20260421T140442
CREATED:20240912T022931Z
LAST-MODIFIED:20241119T024311Z
UID:10000099-1733529600-1733702399@www.stxsoccer.org
SUMMARY:Fall Championships: Division II & III District Playoffs
DESCRIPTION:EASTERN DISTRICT\n\nDII/III Girls – Bear Creek Pioneers Park (Houston)\nDII/III Boys – Bear Creek Pioneers Park (Houston)\n\nWESTERN DISTRICT\n\nDII/III Girls – Schertz Soccer Complex (Schertz)\nDII/III Boys – Schertz Soccer Complex (Schertz)
URL:https://www.stxsoccer.org/event/fall-championships-division-ii-district-playoffs/
CATEGORIES:Competitions
ATTACH;FMTTYPE=image/png:https://www.stxsoccer.org/wp-content/uploads/sites/233/2024/08/STX-Fall-Championships-2024-Logo.png
END:VEVENT
BEGIN:VEVENT
DTSTART;VALUE=DATE:20241120
DTEND;VALUE=DATE:20241121
DTSTAMP:20260421T140442
CREATED:20240912T023419Z
LAST-MODIFIED:20240912T023419Z
UID:10000102-1732060800-1732147199@www.stxsoccer.org
SUMMARY:Fall Championships: Event Registration & Payment Deadline
DESCRIPTION:
URL:https://www.stxsoccer.org/event/fall-championships-event-registration-payment-deadline/
CATEGORIES:Competitions
END:VEVENT
BEGIN:VEVENT
DTSTART;VALUE=DATE:20241016
DTEND;VALUE=DATE:20241017
DTSTAMP:20260421T140442
CREATED:20240912T023631Z
LAST-MODIFIED:20240912T023631Z
UID:10000104-1729036800-1729123199@www.stxsoccer.org
SUMMARY:Fall Championships: Request for Association(s) to Accept/Deny Allocation(s)
DESCRIPTION:
URL:https://www.stxsoccer.org/event/fall-championships-request-for-associations-to-accept-deny-allocations/
CATEGORIES:Competitions
END:VEVENT
BEGIN:VEVENT
DTSTART;VALUE=DATE:20241009
DTEND;VALUE=DATE:20241010
DTSTAMP:20260421T140442
CREATED:20240912T023519Z
LAST-MODIFIED:20240912T023519Z
UID:10000103-1728432000-1728518399@www.stxsoccer.org
SUMMARY:Fall Championships: Allocation(s) Sent to Associations
DESCRIPTION:
URL:https://www.stxsoccer.org/event/fall-championships-allocations-sent-to-associations/
CATEGORIES:Competitions
END:VEVENT
BEGIN:VEVENT
DTSTART;VALUE=DATE:20240929
DTEND;VALUE=DATE:20241001
DTSTAMP:20260421T140442
CREATED:20240509T041847Z
LAST-MODIFIED:20240615T001243Z
UID:10000006-1727568000-1727740799@www.stxsoccer.org
SUMMARY:6th Annual Lace Up 4 Pediatric Cancer - Gold Laces Weekend
DESCRIPTION:
URL:https://www.stxsoccer.org/event/5th-annual-lace-up-4-pediatric-cancer-gold-laces-weekend/
CATEGORIES:Competitions
ATTACH;FMTTYPE=image/jpeg:https://www.stxsoccer.org/wp-content/uploads/sites/233/2024/05/lace-up-cancer-e1718392350907.jpg
END:VEVENT
BEGIN:VEVENT
DTSTART;VALUE=DATE:20240723
DTEND;VALUE=DATE:20240729
DTSTAMP:20260421T140442
CREATED:20240618T034316Z
LAST-MODIFIED:20240618T034351Z
UID:10000076-1721692800-1722211199@www.stxsoccer.org
SUMMARY:US Youth Soccer National Championships
DESCRIPTION:Girls & Boys 13U – 19U Teams \nLocation: Orlando\, Florida
URL:https://www.stxsoccer.org/event/us-youth-soccer-national-championships/
CATEGORIES:Competitions
ATTACH;FMTTYPE=image/png:https://www.stxsoccer.org/wp-content/uploads/sites/233/2024/06/USYS_Nationals_2024_OFL_PMS_WBG-e1718664188154.png
END:VEVENT
BEGIN:VEVENT
DTSTART;VALUE=DATE:20240712
DTEND;VALUE=DATE:20240717
DTSTAMP:20260421T140442
CREATED:20240618T034036Z
LAST-MODIFIED:20240618T034036Z
UID:10000074-1720742400-1721174399@www.stxsoccer.org
SUMMARY:US Youth Soccer National Presidents Cup
DESCRIPTION:Girls & Boys 13U – 19U Teams \nLocation: Wichita\, Kansas
URL:https://www.stxsoccer.org/event/us-youth-soccer-national-presidents-cup/
CATEGORIES:Competitions
ATTACH;FMTTYPE=image/png:https://www.stxsoccer.org/wp-content/uploads/sites/233/2024/06/USYS_USYS_PresCup_National_TM_2024_4C_WBG-e1718663977970.png
END:VEVENT
BEGIN:VEVENT
DTSTART;VALUE=DATE:20240621
DTEND;VALUE=DATE:20240628
DTSTAMP:20260421T140442
CREATED:20240618T034202Z
LAST-MODIFIED:20240618T034616Z
UID:10000075-1718928000-1719532799@www.stxsoccer.org
SUMMARY:US Youth Soccer Southern Regional Championships
DESCRIPTION:Girls & Boys 13U – 19U Teams \nLocation: Tampa & Auburndale\, Florida
URL:https://www.stxsoccer.org/event/us-youth-soccer-southern-regional-championships/
CATEGORIES:Competitions
ATTACH;FMTTYPE=image/png:https://www.stxsoccer.org/wp-content/uploads/sites/233/2024/06/USYS_Southern_RC_2024_4C_WBG-e1718664091971.png
END:VEVENT
BEGIN:VEVENT
DTSTART;VALUE=DATE:20240615
DTEND;VALUE=DATE:20240619
DTSTAMP:20260421T140442
CREATED:20240618T033831Z
LAST-MODIFIED:20240618T033831Z
UID:10000073-1718409600-1718755199@www.stxsoccer.org
SUMMARY:US Youth Soccer Southern Presidents Cup
DESCRIPTION:Girls & Boys 13U – 19U Teams \nLocation: Plano\, TX
URL:https://www.stxsoccer.org/event/us-youth-soccer-southern-presidents-cup/
CATEGORIES:Competitions
ATTACH;FMTTYPE=image/png:https://www.stxsoccer.org/wp-content/uploads/sites/233/2024/06/USYS_PCUP_SO_2024_PMS_WBG-e1718663821597.png
END:VEVENT
END:VCALENDAR